BEGIN:VCALENDAR
VERSION:2.0
PRODID:-//30Asaveourbeaches.com                              - ECPv6.15.20//NONSGML v1.0//EN
CALSCALE:GREGORIAN
METHOD:PUBLISH
X-WR-CALNAME:30Asaveourbeaches.com                             
X-ORIGINAL-URL:https://30asaveourbeaches.com
X-WR-CALDESC:Events for 30Asaveourbeaches.com                             
REFRESH-INTERVAL;VALUE=DURATION:PT1H
X-Robots-Tag:noindex
X-PUBLISHED-TTL:PT1H
BEGIN:VTIMEZONE
TZID:America/New_York
BEGIN:DAYLIGHT
TZOFFSETFROM:-0500
TZOFFSETTO:-0400
TZNAME:EDT
DTSTART:20240310T070000
END:DAYLIGHT
BEGIN:STANDARD
TZOFFSETFROM:-0400
TZOFFSETTO:-0500
TZNAME:EST
DTSTART:20241103T060000
END:STANDARD
BEGIN:DAYLIGHT
TZOFFSETFROM:-0500
TZOFFSETTO:-0400
TZNAME:EDT
DTSTART:20250309T070000
END:DAYLIGHT
BEGIN:STANDARD
TZOFFSETFROM:-0400
TZOFFSETTO:-0500
TZNAME:EST
DTSTART:20251102T060000
END:STANDARD
BEGIN:DAYLIGHT
TZOFFSETFROM:-0500
TZOFFSETTO:-0400
TZNAME:EDT
DTSTART:20260308T070000
END:DAYLIGHT
BEGIN:STANDARD
TZOFFSETFROM:-0400
TZOFFSETTO:-0500
TZNAME:EST
DTSTART:20261101T060000
END:STANDARD
END:VTIMEZONE
BEGIN:VTIMEZONE
TZID:UTC
BEGIN:STANDARD
TZOFFSETFROM:+0000
TZOFFSETTO:+0000
TZNAME:UTC
DTSTART:20230101T000000
END:STANDARD
END:VTIMEZONE
BEGIN:VTIMEZONE
TZID:America/Chicago
BEGIN:DAYLIGHT
TZOFFSETFROM:-0600
TZOFFSETTO:-0500
TZNAME:CDT
DTSTART:20230312T080000
END:DAYLIGHT
BEGIN:STANDARD
TZOFFSETFROM:-0500
TZOFFSETTO:-0600
TZNAME:CST
DTSTART:20231105T070000
END:STANDARD
BEGIN:DAYLIGHT
TZOFFSETFROM:-0600
TZOFFSETTO:-0500
TZNAME:CDT
DTSTART:20240310T080000
END:DAYLIGHT
BEGIN:STANDARD
TZOFFSETFROM:-0500
TZOFFSETTO:-0600
TZNAME:CST
DTSTART:20241103T070000
END:STANDARD
BEGIN:DAYLIGHT
TZOFFSETFROM:-0600
TZOFFSETTO:-0500
TZNAME:CDT
DTSTART:20250309T080000
END:DAYLIGHT
BEGIN:STANDARD
TZOFFSETFROM:-0500
TZOFFSETTO:-0600
TZNAME:CST
DTSTART:20251102T070000
END:STANDARD
END:VTIMEZONE
BEGIN:VEVENT
DTSTART;TZID=America/New_York:20250421T140000
DTEND;TZID=America/New_York:20250421T180000
DTSTAMP:20260423T153805
CREATED:20250418T013428Z
LAST-MODIFIED:20250418T013428Z
UID:1250-1745244000-1745258400@30asaveourbeaches.com
SUMMARY:SB 1622 heard by the Senate Rules Committee
DESCRIPTION:This is the final committee that will hear the bill. Passing this committee ensures that the bill moves to the full Senate for a vote.
URL:https://30asaveourbeaches.com/event/sb-1622-heard-by-the-senate-rules-committee/
LOCATION:Pat Thomas Commmittee Room\, 412 Knott Building\, 601-631 S Duval St\, Tallahassee\, FL\, 32399\, United States
END:VEVENT
BEGIN:VEVENT
DTSTART;TZID=America/New_York:20250408T080000
DTEND;TZID=America/New_York:20250408T120000
DTSTAMP:20260423T153806
CREATED:20250404T230809Z
LAST-MODIFIED:20250404T230809Z
UID:1204-1744099200-1744113600@30asaveourbeaches.com
SUMMARY:HB 6043 in the House Judiciary Committee
DESCRIPTION:HB 6043 Heads to the House Judiciary Committee On Tuesday\, April 8\, 2025\, 8:00am-12:00pm\, HB 6043 will be heard by the House Judiciary Committee. Please email members of this committee. Remember to keep your emails respectful and positive while telling your personal story about how the Walton County beach situation has affected your life. Click HERE to download the email list of members of this committee.
URL:https://30asaveourbeaches.com/event/hb-6043-in-the-house-judiciary-committee/
LOCATION:412 House Office Building\, 402 South Monroe Street\, Tallahassee\, FL\, 32399\, United States
END:VEVENT
BEGIN:VEVENT
DTSTART;TZID=America/New_York:20250401T123000
DTEND;TZID=America/New_York:20250401T143000
DTSTAMP:20260423T153806
CREATED:20250330T015948Z
LAST-MODIFIED:20250330T015948Z
UID:1110-1743510600-1743517800@30asaveourbeaches.com
SUMMARY:HB6043-Being heard by Natural Resources & Disasters Subcommittee
DESCRIPTION:HB6043-Being heard by Natural Resources & Disasters Subcommittee
URL:https://30asaveourbeaches.com/event/hb6043-being-heard-by-natural-resources-disasters-subcommittee/
LOCATION:404 House Office Building\, 402 South Monroe Street\, Tallahassee\, Florida\, 402 South Monroe Street\, Tallahassee\, FL\, 32399\, United States
END:VEVENT
BEGIN:VEVENT
DTSTART;TZID=America/New_York:20250331T160000
DTEND;TZID=America/New_York:20250331T170000
DTSTAMP:20260423T153806
CREATED:20250330T020410Z
LAST-MODIFIED:20250330T020410Z
UID:1113-1743436800-1743440400@30asaveourbeaches.com
SUMMARY:SB1622 will be heard in the Community Affairs Committee
DESCRIPTION:SB1622 will be heard in the Community Affairs Committee
URL:https://30asaveourbeaches.com/event/sb1622-will-be-heard-in-the-community-affairs-committee/
LOCATION:Mallory Horne Committee Room\, 37 Senate Building\, 404 South Monroe Street\, Tallahassee\, FL\, 32399\, United States
END:VEVENT
BEGIN:VEVENT
DTSTART;TZID=America/New_York:20250327T080000
DTEND;TZID=America/New_York:20250327T090000
DTSTAMP:20260423T153806
CREATED:20250326T023820Z
LAST-MODIFIED:20250326T023820Z
UID:1091-1743062400-1743066000@30asaveourbeaches.com
SUMMARY:House Bill 6043 before Civil Justice & Claims Subcommittee
DESCRIPTION:The next step on the journey to restore customary use is the passage of HB6043 through the Civil Justice and Claims Subcommittee on Thursday\, March 27\, at 8am ET. You can help by emailing the following people with your message of support to restore customary use!  Read the bill HERE. Click here: FLORIDA CIVIL JUSTICE AND CLAIMS SUBCOMMITTEE to download the list of email addresses to contact committee members.
URL:https://30asaveourbeaches.com/event/house-bill-6043-before-civil-justice-claims-subcommittee/
LOCATION:Civil Justice & Claims Subcommittee\, 412 House Office Building * 402 South Monroe Street\, Tallahassee\, FL\, 32399\, United States
END:VEVENT
BEGIN:VEVENT
DTSTART;TZID=UTC:20250114T130000
DTEND;TZID=UTC:20250114T150000
DTSTAMP:20260423T153806
CREATED:20241212T154701Z
LAST-MODIFIED:20241212T154701Z
UID:964-1736859600-1736866800@30asaveourbeaches.com
SUMMARY:Board of Walton County Commissioner's Meeting
DESCRIPTION:
URL:https://30asaveourbeaches.com/event/board-of-walton-county-commissioners-meeting-4/
LOCATION:DeFuniak Springs Boardroom\, 571 U.S. Highway 90 East\, DeFuniak Springs\, FL\, 32433\, United States
END:VEVENT
BEGIN:VEVENT
DTSTART;TZID=UTC:20241220T173000
DTEND;TZID=UTC:20241220T203000
DTSTAMP:20260423T153806
CREATED:20241212T153234Z
LAST-MODIFIED:20241216T013657Z
UID:959-1734715800-1734726600@30asaveourbeaches.com
SUMMARY:Meet & Greet with Dr. Joel Rudman
DESCRIPTION:You’re invited to a get-together on Friday\, December 20\, at Bud and Alleys starting at 5:30 PM. Special thanks to David Rauschkolb for hosting the event. You’ll be able to meet other Save our Beaches community members and State Representative Dr. Joel Rudman. Dr. Rudman will provide an update on his bill to repeal HB631\, how it came to be\, and the next steps. See the bill being referenced HERE.
URL:https://30asaveourbeaches.com/event/meet-greet-with-dr-joel-rudman/
LOCATION:Bud and Alley’s Seaside Florida\, 2236 East County Road 30-A\, Seaside\, FL\, 32459\, United States
ATTACH;FMTTYPE=image/jpeg:https://30asaveourbeaches.com/wp-content/uploads/2024/12/20241215_172434.jpg
END:VEVENT
BEGIN:VEVENT
DTSTART;TZID=UTC:20240709T130000
DTEND;TZID=UTC:20240709T150000
DTSTAMP:20260423T153806
CREATED:20240522T140554Z
LAST-MODIFIED:20240522T141116Z
UID:307-1720530000-1720537200@30asaveourbeaches.com
SUMMARY:Board of Walton County Commissioner's Meeting
DESCRIPTION:
URL:https://30asaveourbeaches.com/event/board-of-walton-county-commissioners-meeting-2/
LOCATION:DeFuniak Springs Boardroom\, 571 U.S. Highway 90 East\, DeFuniak Springs\, FL\, 32433\, United States
END:VEVENT
BEGIN:VEVENT
DTSTART;TZID=UTC:20240627T090000
DTEND;TZID=UTC:20240627T170000
DTSTAMP:20260423T153806
CREATED:20240627T022152Z
LAST-MODIFIED:20240627T022152Z
UID:679-1719478800-1719507600@30asaveourbeaches.com
SUMMARY:Beach Wars Protest-Free Florida's Sand and Beaches
DESCRIPTION:Join us at Goatfeathers West at 9 a.m. on Saturday July 27th\, 2024 to assemble and then do a protest walk/ride.\nThen at 10:30 return to restaurant for lunch. I am looking for a band to volunteer their time.\n\n\nJoin us at Goatfeathers!\n\n\nFree our Beaches!\n\n\nhttps://www.goatfeathersseafood.com/
URL:https://30asaveourbeaches.com/event/beach-wars-protest-free-floridas-sand-and-beaches/
LOCATION:Goatfeathers West\, 3865 W. Co. Hwy 30A\, Santa Rosa Beach\, FL\, 32459\, United States
END:VEVENT
BEGIN:VEVENT
DTSTART;TZID=UTC:20240613T183000
DTEND;TZID=UTC:20240613T193000
DTSTAMP:20260423T153806
CREATED:20240524T203609Z
LAST-MODIFIED:20240524T203609Z
UID:338-1718303400-1718307000@30asaveourbeaches.com
SUMMARY:Surfrider Foundation: Emerald Coast Chapter Recruitment
DESCRIPTION:Description\nA virtual introduction to Surfrider Foundation and how to get involved as new chapter leadership \nPurpose\nBecome the next leaders of Surfrider Emerald Coast. \nRole\nThe Emerald Coast Chapter of The Surfrider Foundation needs new chapter leadership. In this virtual meeting\, we will go over the history and basics of Surfrider and what local chapters do to protect our ocean waves and beaches.
URL:https://30asaveourbeaches.com/event/surfrider-foundation-emerald-coast-chapter-recruitment/
LOCATION:FL
ATTACH;FMTTYPE=image/jpeg:https://30asaveourbeaches.com/wp-content/uploads/2024/05/11871742497269797655.jpeg
END:VEVENT
BEGIN:VEVENT
DTSTART;TZID=UTC:20240611T130000
DTEND;TZID=UTC:20240611T150000
DTSTAMP:20260423T153806
CREATED:20240522T141028Z
LAST-MODIFIED:20240522T141054Z
UID:311-1718110800-1718118000@30asaveourbeaches.com
SUMMARY:Board of Walton County Commissioner's Meeting
DESCRIPTION:
URL:https://30asaveourbeaches.com/event/board-of-walton-county-commissioners-meeting-3/
LOCATION:DeFuniak Springs Boardroom\, 571 U.S. Highway 90 East\, DeFuniak Springs\, FL\, 32433\, United States
END:VEVENT
BEGIN:VEVENT
DTSTART;TZID=UTC:20240530T173000
DTEND;TZID=UTC:20240530T193000
DTSTAMP:20260423T153806
CREATED:20240419T153843Z
LAST-MODIFIED:20240419T153843Z
UID:151-1717090200-1717097400@30asaveourbeaches.com
SUMMARY:Donna Johns Town Hall Meeting
DESCRIPTION:Town Hall meeting with Donna Johns\, District 4 County Commissioner. Topics for discussion will include amenities being planned for Paradise Park and the upgrades currently in progress at Legion Park both in Miramar Beach. Additional speakers will include Walton County Administrator\, Stan Sunday\, Engineering Director Chance Powell\, Pubic Works Director Buddy Wright\, and Beach Operations Director Brian Kellenberger.
URL:https://30asaveourbeaches.com/event/donna-johns-town-hall-meeting/
LOCATION:Hilton Garden Inn\, 220 Scenic Gulf Drive\, Miramar Beach\, FL\, United States
ORGANIZER;CN="Crissy Johnson":MAILTO:johchristina@co.walton.fl.us
END:VEVENT
BEGIN:VEVENT
DTSTART;TZID=UTC:20240528T130000
DTEND;TZID=UTC:20240528T140000
DTSTAMP:20260423T153806
CREATED:20240522T140214Z
LAST-MODIFIED:20240522T141143Z
UID:304-1716901200-1716904800@30asaveourbeaches.com
SUMMARY:Board of Walton County Commissioner's Meeting
DESCRIPTION:Time: 1pm \nLocation: 31 Coastal Centre Boulevard\, Santa Rosa Beach\, FL 32459 \n 
URL:https://30asaveourbeaches.com/event/board-of-walton-county-commissioners-meeting/
LOCATION:South Walton Annex Board Room\, 31 Coastal Centre Boulevard\, Santa Rosa Beach\, FL\, 32459\, United States
END:VEVENT
BEGIN:VEVENT
DTSTART;TZID=UTC:20240428T130000
DTEND;TZID=UTC:20240428T170000
DTSTAMP:20260423T153806
CREATED:20240419T152947Z
LAST-MODIFIED:20240419T152947Z
UID:145-1714309200-1714323600@30asaveourbeaches.com
SUMMARY:Walton County Commissioner Candidate Meet & Greet
DESCRIPTION:There are three County Commission Seats up for election on August 20th. \nBarbara Morano\, D5 \nTeddy Stewart\, D3 \nDan Curry\, D1 \nMeet these three new candidates at this event on April 28th\, 1-5pm.
URL:https://30asaveourbeaches.com/event/walton-county-commissioner-candidate-meet-greet/
LOCATION:Origins Screen Porch\, 330 Pathways Drive\, Inlet Beach\, FL\, 32459\, United States
END:VEVENT
BEGIN:VEVENT
DTSTART;TZID=America/Chicago:20240426T150000
DTEND;TZID=America/Chicago:20240426T200000
DTSTAMP:20260423T153806
CREATED:20240419T153131Z
LAST-MODIFIED:20240419T153131Z
UID:139-1714143600-1714161600@30asaveourbeaches.com
SUMMARY:Walton County Commissioner Q & A
DESCRIPTION:District 1 Commissioner\, Boots McCormick\, Q & A
URL:https://30asaveourbeaches.com/event/walton-county-commissioner-q-a/
LOCATION:Walton County Community Center\, The Freeport Commons\, 902 State Hwy 20\, Suite 102\, Freeport\, FL\, 32439\, United States
END:VEVENT
END:VCALENDAR